BEGIN:VCALENDAR
VERSION:2.0
PRODID:-//Pipeline - ECPv4.9.3.2//NONSGML v1.0//EN
CALSCALE:GREGORIAN
METHOD:PUBLISH
X-WR-CALNAME:Pipeline
X-ORIGINAL-URL:https://pipelinetalent.com.au
X-WR-CALDESC:Events for Pipeline
BEGIN:VEVENT
DTSTART;TZID=Australia/Sydney:20190530T090000
DTEND;TZID=Australia/Sydney:20190530T170000
DTSTAMP:20200229T194220
CREATED:20190303T180219Z
LAST-MODIFIED:20190708T132939Z
UID:6544-1559206800-1559235600@pipelinetalent.com.au
SUMMARY:Pipeline Talent Short Course Series: Building Your Brand
DESCRIPTION:It doesn’t matter whether you live on Facebook every day or rarely log onto a computer\, you still have a personal brand – like it or not! Your personal brand is what people say about you\, think about you – and whether they want to employ you for your next career-building job.\nDevelop skills that enable you to build your personal brand easily and effectively in this workshop\, which will be delivered by award-winning Pipeline Talent staff with experience in media\, marketing\, public relations and HR.\nDecide who you want to be and consider how you could achieve your goals and help your community by building your communication skills and brand.\n\n \n
URL:https://pipelinetalent.com.au/event/copy-of-pipeline-talent-short-course-series-building-your-brand/
LOCATION:Canberra
ATTACH;FMTTYPE=image/jpeg:https://pipelinetalent.com.au/wp-content/uploads/2019/03/b7df27b27093e4fa1f7ed1879925dc1d.jpg
END:VEVENT
END:VCALENDAR