BEGIN:VCALENDAR
VERSION:2.0
PRODID:-//Pipeline - ECPv4.9.3.2//NONSGML v1.0//EN
CALSCALE:GREGORIAN
METHOD:PUBLISH
X-WR-CALNAME:Pipeline
X-ORIGINAL-URL:https://pipelinetalent.com.au
X-WR-CALDESC:Events for Pipeline
BEGIN:VEVENT
DTSTART;TZID=Australia/Sydney:20190507T090000
DTEND;TZID=Australia/Sydney:20190507T170000
DTSTAMP:20200229T195548
CREATED:20190303T180220Z
LAST-MODIFIED:20190708T132939Z
UID:6546-1557219600-1557248400@pipelinetalent.com.au
SUMMARY:Pipeline Talent Short Course Series: Grow Your Strengths
DESCRIPTION:Great lives are frequently lived by people who focus on the positive – recognising problems\, but relentlessly working to achieve better outcomes by leveraging strengths.\nThis workshop will introduce you to a summary of the latest research into positive psychology. Our expert presenters will help you discover your character strengths and provide you with strategies to adopt a growth mindset – focusing each day on what can be achieved\, rather than what cannot.\nIdentify how you can work with your character strengths and adopt positive psychology strategies to flourish in your career.\n\n \n
URL:https://pipelinetalent.com.au/event/pipeline-talent-short-course-series-grow-your-strengths/
LOCATION:Canberra
ATTACH;FMTTYPE=image/jpeg:https://pipelinetalent.com.au/wp-content/uploads/2019/03/ba22fecf7fd8ebf51fe154c64b37dd42.jpg
END:VEVENT
END:VCALENDAR